BEGIN:VCALENDAR
VERSION:2.0
PRODID:-//St. Michael’s Episcopal Church - ECPv6.15.20//NONSGML v1.0//EN
CALSCALE:GREGORIAN
METHOD:PUBLISH
X-WR-CALNAME:St. Michael’s Episcopal Church
X-ORIGINAL-URL:https://www.stmichaels-vt.org
X-WR-CALDESC:Events for St. Michael’s Episcopal Church
REFRESH-INTERVAL;VALUE=DURATION:PT1H
X-Robots-Tag:noindex
X-PUBLISHED-TTL:PT1H
BEGIN:VTIMEZONE
TZID:America/New_York
BEGIN:DAYLIGHT
TZOFFSETFROM:-0500
TZOFFSETTO:-0400
TZNAME:EDT
DTSTART:20190310T070000
END:DAYLIGHT
BEGIN:STANDARD
TZOFFSETFROM:-0400
TZOFFSETTO:-0500
TZNAME:EST
DTSTART:20191103T060000
END:STANDARD
BEGIN:DAYLIGHT
TZOFFSETFROM:-0500
TZOFFSETTO:-0400
TZNAME:EDT
DTSTART:20200308T070000
END:DAYLIGHT
BEGIN:STANDARD
TZOFFSETFROM:-0400
TZOFFSETTO:-0500
TZNAME:EST
DTSTART:20201101T060000
END:STANDARD
BEGIN:DAYLIGHT
TZOFFSETFROM:-0500
TZOFFSETTO:-0400
TZNAME:EDT
DTSTART:20210314T070000
END:DAYLIGHT
BEGIN:STANDARD
TZOFFSETFROM:-0400
TZOFFSETTO:-0500
TZNAME:EST
DTSTART:20211107T060000
END:STANDARD
BEGIN:DAYLIGHT
TZOFFSETFROM:-0500
TZOFFSETTO:-0400
TZNAME:EDT
DTSTART:20220313T070000
END:DAYLIGHT
BEGIN:STANDARD
TZOFFSETFROM:-0400
TZOFFSETTO:-0500
TZNAME:EST
DTSTART:20221106T060000
END:STANDARD
BEGIN:DAYLIGHT
TZOFFSETFROM:-0500
TZOFFSETTO:-0400
TZNAME:EDT
DTSTART:20230312T070000
END:DAYLIGHT
BEGIN:STANDARD
TZOFFSETFROM:-0400
TZOFFSETTO:-0500
TZNAME:EST
DTSTART:20231105T060000
END:STANDARD
BEGIN:DAYLIGHT
TZOFFSETFROM:-0500
TZOFFSETTO:-0400
TZNAME:EDT
DTSTART:20240310T070000
END:DAYLIGHT
BEGIN:STANDARD
TZOFFSETFROM:-0400
TZOFFSETTO:-0500
TZNAME:EST
DTSTART:20241103T060000
END:STANDARD
BEGIN:DAYLIGHT
TZOFFSETFROM:-0500
TZOFFSETTO:-0400
TZNAME:EDT
DTSTART:20250309T070000
END:DAYLIGHT
BEGIN:STANDARD
TZOFFSETFROM:-0400
TZOFFSETTO:-0500
TZNAME:EST
DTSTART:20251102T060000
END:STANDARD
END:VTIMEZONE
BEGIN:VEVENT
DTSTART;TZID=America/New_York:20240515T120000
DTEND;TZID=America/New_York:20240515T120000
DTSTAMP:20260425T182840
CREATED:20180429T200700Z
LAST-MODIFIED:20180429T200700Z
UID:18465-1715774400-1715774400@www.stmichaels-vt.org
SUMMARY:Noon Holy Eucharist
DESCRIPTION:Noon Holy Eucharist Rite II – The noon worship service on Wednesdays is a simple\, 30-minute service with scripture\, prayers\, homily\, and the Eucharist. This service is great for people who work on Sundays\, or who would like to gather in the middle of the week.  This service is held in the Chapel of Mary Magdalene (through office entrance on Bradley Avenue).
URL:https://www.stmichaels-vt.org/event/12-pm-holy-eucharist/2024-05-15/
END:VEVENT
BEGIN:VEVENT
DTSTART;TZID=America/New_York:20240515T060000
DTEND;TZID=America/New_York:20240515T070000
DTSTAMP:20260425T182840
CREATED:20180429T201027Z
LAST-MODIFIED:20180429T201027Z
UID:18466-1715752800-1715756400@www.stmichaels-vt.org
SUMMARY:Silent Meditation
DESCRIPTION:6:00-7:00 am\, Weekday mornings – The Chapel is open every weekday morning from 6-7 am for those who would like to sit together in silent prayer or meditation.   Stay for 10 minutes or for the whole hour.   The Chapel is offered as a sacred space in which people can gather “in the beauty of holiness” to begin their days\, whatever their faith tradition.
URL:https://www.stmichaels-vt.org/event/silent-meditation/2024-05-15/
END:VEVENT
BEGIN:VEVENT
DTSTART;TZID=America/New_York:20240514T060000
DTEND;TZID=America/New_York:20240514T070000
DTSTAMP:20260425T182840
CREATED:20180429T201027Z
LAST-MODIFIED:20180429T201027Z
UID:18464-1715666400-1715670000@www.stmichaels-vt.org
SUMMARY:Silent Meditation
DESCRIPTION:6:00-7:00 am\, Weekday mornings – The Chapel is open every weekday morning from 6-7 am for those who would like to sit together in silent prayer or meditation.   Stay for 10 minutes or for the whole hour.   The Chapel is offered as a sacred space in which people can gather “in the beauty of holiness” to begin their days\, whatever their faith tradition.
URL:https://www.stmichaels-vt.org/event/silent-meditation/2024-05-14/
END:VEVENT
BEGIN:VEVENT
DTSTART;TZID=America/New_York:20240513T060000
DTEND;TZID=America/New_York:20240513T070000
DTSTAMP:20260425T182840
CREATED:20180429T201027Z
LAST-MODIFIED:20180429T201027Z
UID:18463-1715580000-1715583600@www.stmichaels-vt.org
SUMMARY:Silent Meditation
DESCRIPTION:6:00-7:00 am\, Weekday mornings – The Chapel is open every weekday morning from 6-7 am for those who would like to sit together in silent prayer or meditation.   Stay for 10 minutes or for the whole hour.   The Chapel is offered as a sacred space in which people can gather “in the beauty of holiness” to begin their days\, whatever their faith tradition.
URL:https://www.stmichaels-vt.org/event/silent-meditation/2024-05-13/
END:VEVENT
BEGIN:VEVENT
DTSTART;TZID=America/New_York:20240511T080000
DTEND;TZID=America/New_York:20240511T090000
DTSTAMP:20260425T182840
CREATED:20180429T221835Z
LAST-MODIFIED:20180429T221835Z
UID:18449-1715414400-1715418000@www.stmichaels-vt.org
SUMMARY:Centering Prayer
DESCRIPTION:8:00 am Saturdays\, Centering Prayer  – On Saturday mornings we practice  two 20-minute sessions of Centering Prayer (silent meditation) divided by 5 minutes of walking mediation. You may stay for one or both sessions.  Every third week\, the we sit for one session\, followed by 30 minutes of reading and discussion. Training in Centering Prayer is offered for newcomers. Participants may stay for just the prayer practice or both the prayer practice and the discussion
URL:https://www.stmichaels-vt.org/event/centering-prayer-2/2024-05-11/
END:VEVENT
BEGIN:VEVENT
DTSTART;TZID=America/New_York:20240510T060000
DTEND;TZID=America/New_York:20240510T070000
DTSTAMP:20260425T182840
CREATED:20180429T201027Z
LAST-MODIFIED:20180429T201027Z
UID:18443-1715320800-1715324400@www.stmichaels-vt.org
SUMMARY:Silent Meditation
DESCRIPTION:6:00-7:00 am\, Weekday mornings – The Chapel is open every weekday morning from 6-7 am for those who would like to sit together in silent prayer or meditation.   Stay for 10 minutes or for the whole hour.   The Chapel is offered as a sacred space in which people can gather “in the beauty of holiness” to begin their days\, whatever their faith tradition.
URL:https://www.stmichaels-vt.org/event/silent-meditation/2024-05-10/
END:VEVENT
BEGIN:VEVENT
DTSTART;TZID=America/New_York:20240509T173000
DTEND;TZID=America/New_York:20240509T180000
DTSTAMP:20260425T182840
CREATED:20180429T200819Z
LAST-MODIFIED:20180429T200819Z
UID:18440-1715275800-1715277600@www.stmichaels-vt.org
SUMMARY:5:30 pm Contemplative Service
DESCRIPTION:A 30-minute service of chanting\, silence\, and quiet reflection on scripture.   This service is held in the Chapel of Mary Magdalene (through office entrance on Bradley Avenue).
URL:https://www.stmichaels-vt.org/event/530-pm-contemplative-service/2024-05-09/
END:VEVENT
BEGIN:VEVENT
DTSTART;TZID=America/New_York:20240509T060000
DTEND;TZID=America/New_York:20240509T070000
DTSTAMP:20260425T182840
CREATED:20180429T201027Z
LAST-MODIFIED:20180429T201027Z
UID:18441-1715234400-1715238000@www.stmichaels-vt.org
SUMMARY:Silent Meditation
DESCRIPTION:6:00-7:00 am\, Weekday mornings – The Chapel is open every weekday morning from 6-7 am for those who would like to sit together in silent prayer or meditation.   Stay for 10 minutes or for the whole hour.   The Chapel is offered as a sacred space in which people can gather “in the beauty of holiness” to begin their days\, whatever their faith tradition.
URL:https://www.stmichaels-vt.org/event/silent-meditation/2024-05-09/
END:VEVENT
BEGIN:VEVENT
DTSTART;TZID=America/New_York:20240508T120000
DTEND;TZID=America/New_York:20240508T120000
DTSTAMP:20260425T182840
CREATED:20180429T200700Z
LAST-MODIFIED:20180429T200700Z
UID:18421-1715169600-1715169600@www.stmichaels-vt.org
SUMMARY:Noon Holy Eucharist
DESCRIPTION:Noon Holy Eucharist Rite II – The noon worship service on Wednesdays is a simple\, 30-minute service with scripture\, prayers\, homily\, and the Eucharist. This service is great for people who work on Sundays\, or who would like to gather in the middle of the week.  This service is held in the Chapel of Mary Magdalene (through office entrance on Bradley Avenue).
URL:https://www.stmichaels-vt.org/event/12-pm-holy-eucharist/2024-05-08/
END:VEVENT
BEGIN:VEVENT
DTSTART;TZID=America/New_York:20240508T060000
DTEND;TZID=America/New_York:20240508T070000
DTSTAMP:20260425T182840
CREATED:20180429T201027Z
LAST-MODIFIED:20180429T201027Z
UID:18422-1715148000-1715151600@www.stmichaels-vt.org
SUMMARY:Silent Meditation
DESCRIPTION:6:00-7:00 am\, Weekday mornings – The Chapel is open every weekday morning from 6-7 am for those who would like to sit together in silent prayer or meditation.   Stay for 10 minutes or for the whole hour.   The Chapel is offered as a sacred space in which people can gather “in the beauty of holiness” to begin their days\, whatever their faith tradition.
URL:https://www.stmichaels-vt.org/event/silent-meditation/2024-05-08/
END:VEVENT
BEGIN:VEVENT
DTSTART;TZID=America/New_York:20240507T060000
DTEND;TZID=America/New_York:20240507T070000
DTSTAMP:20260425T182840
CREATED:20180429T201027Z
LAST-MODIFIED:20180429T201027Z
UID:18389-1715061600-1715065200@www.stmichaels-vt.org
SUMMARY:Silent Meditation
DESCRIPTION:6:00-7:00 am\, Weekday mornings – The Chapel is open every weekday morning from 6-7 am for those who would like to sit together in silent prayer or meditation.   Stay for 10 minutes or for the whole hour.   The Chapel is offered as a sacred space in which people can gather “in the beauty of holiness” to begin their days\, whatever their faith tradition.
URL:https://www.stmichaels-vt.org/event/silent-meditation/2024-05-07/
END:VEVENT
BEGIN:VEVENT
DTSTART;TZID=America/New_York:20240506T171500
DTEND;TZID=America/New_York:20240506T183000
DTSTAMP:20260425T182840
CREATED:20140307T154910Z
LAST-MODIFIED:20140307T154910Z
UID:18355-1715015700-1715020200@www.stmichaels-vt.org
SUMMARY:Mission and Outreach Meeting
DESCRIPTION:Monthly meeting of mission and outreach in the Meeting Room
URL:https://www.stmichaels-vt.org/event/mission-and-outreach-meeting-2/2024-05-06/
LOCATION:Meeting Room
END:VEVENT
BEGIN:VEVENT
DTSTART;TZID=America/New_York:20240506T060000
DTEND;TZID=America/New_York:20240506T070000
DTSTAMP:20260425T182840
CREATED:20180429T201027Z
LAST-MODIFIED:20180429T201027Z
UID:18356-1714975200-1714978800@www.stmichaels-vt.org
SUMMARY:Silent Meditation
DESCRIPTION:6:00-7:00 am\, Weekday mornings – The Chapel is open every weekday morning from 6-7 am for those who would like to sit together in silent prayer or meditation.   Stay for 10 minutes or for the whole hour.   The Chapel is offered as a sacred space in which people can gather “in the beauty of holiness” to begin their days\, whatever their faith tradition.
URL:https://www.stmichaels-vt.org/event/silent-meditation/2024-05-06/
END:VEVENT
BEGIN:VEVENT
DTSTART;TZID=America/New_York:20240504T080000
DTEND;TZID=America/New_York:20240504T090000
DTSTAMP:20260425T182840
CREATED:20180429T221835Z
LAST-MODIFIED:20180429T221835Z
UID:18347-1714809600-1714813200@www.stmichaels-vt.org
SUMMARY:Centering Prayer
DESCRIPTION:8:00 am Saturdays\, Centering Prayer  – On Saturday mornings we practice  two 20-minute sessions of Centering Prayer (silent meditation) divided by 5 minutes of walking mediation. You may stay for one or both sessions.  Every third week\, the we sit for one session\, followed by 30 minutes of reading and discussion. Training in Centering Prayer is offered for newcomers. Participants may stay for just the prayer practice or both the prayer practice and the discussion
URL:https://www.stmichaels-vt.org/event/centering-prayer-2/2024-05-04/
END:VEVENT
BEGIN:VEVENT
DTSTART;TZID=America/New_York:20240503T060000
DTEND;TZID=America/New_York:20240503T070000
DTSTAMP:20260425T182840
CREATED:20180429T201027Z
LAST-MODIFIED:20180429T201027Z
UID:18340-1714716000-1714719600@www.stmichaels-vt.org
SUMMARY:Silent Meditation
DESCRIPTION:6:00-7:00 am\, Weekday mornings – The Chapel is open every weekday morning from 6-7 am for those who would like to sit together in silent prayer or meditation.   Stay for 10 minutes or for the whole hour.   The Chapel is offered as a sacred space in which people can gather “in the beauty of holiness” to begin their days\, whatever their faith tradition.
URL:https://www.stmichaels-vt.org/event/silent-meditation/2024-05-03/
END:VEVENT
BEGIN:VEVENT
DTSTART;TZID=America/New_York:20240502T173000
DTEND;TZID=America/New_York:20240502T180000
DTSTAMP:20260425T182840
CREATED:20180429T200819Z
LAST-MODIFIED:20180429T200819Z
UID:18338-1714671000-1714672800@www.stmichaels-vt.org
SUMMARY:5:30 pm Contemplative Service
DESCRIPTION:A 30-minute service of chanting\, silence\, and quiet reflection on scripture.   This service is held in the Chapel of Mary Magdalene (through office entrance on Bradley Avenue).
URL:https://www.stmichaels-vt.org/event/530-pm-contemplative-service/2024-05-02/
END:VEVENT
BEGIN:VEVENT
DTSTART;TZID=America/New_York:20240502T060000
DTEND;TZID=America/New_York:20240502T070000
DTSTAMP:20260425T182840
CREATED:20180429T201027Z
LAST-MODIFIED:20180429T201027Z
UID:18339-1714629600-1714633200@www.stmichaels-vt.org
SUMMARY:Silent Meditation
DESCRIPTION:6:00-7:00 am\, Weekday mornings – The Chapel is open every weekday morning from 6-7 am for those who would like to sit together in silent prayer or meditation.   Stay for 10 minutes or for the whole hour.   The Chapel is offered as a sacred space in which people can gather “in the beauty of holiness” to begin their days\, whatever their faith tradition.
URL:https://www.stmichaels-vt.org/event/silent-meditation/2024-05-02/
END:VEVENT
BEGIN:VEVENT
DTSTART;TZID=America/New_York:20240501T120000
DTEND;TZID=America/New_York:20240501T120000
DTSTAMP:20260425T182840
CREATED:20180429T200700Z
LAST-MODIFIED:20180429T200700Z
UID:18332-1714564800-1714564800@www.stmichaels-vt.org
SUMMARY:Noon Holy Eucharist
DESCRIPTION:Noon Holy Eucharist Rite II – The noon worship service on Wednesdays is a simple\, 30-minute service with scripture\, prayers\, homily\, and the Eucharist. This service is great for people who work on Sundays\, or who would like to gather in the middle of the week.  This service is held in the Chapel of Mary Magdalene (through office entrance on Bradley Avenue).
URL:https://www.stmichaels-vt.org/event/12-pm-holy-eucharist/2024-05-01/
END:VEVENT
BEGIN:VEVENT
DTSTART;TZID=America/New_York:20240501T060000
DTEND;TZID=America/New_York:20240501T070000
DTSTAMP:20260425T182840
CREATED:20180429T201027Z
LAST-MODIFIED:20180429T201027Z
UID:18333-1714543200-1714546800@www.stmichaels-vt.org
SUMMARY:Silent Meditation
DESCRIPTION:6:00-7:00 am\, Weekday mornings – The Chapel is open every weekday morning from 6-7 am for those who would like to sit together in silent prayer or meditation.   Stay for 10 minutes or for the whole hour.   The Chapel is offered as a sacred space in which people can gather “in the beauty of holiness” to begin their days\, whatever their faith tradition.
URL:https://www.stmichaels-vt.org/event/silent-meditation/2024-05-01/
END:VEVENT
BEGIN:VEVENT
DTSTART;TZID=America/New_York:20240430T060000
DTEND;TZID=America/New_York:20240430T070000
DTSTAMP:20260425T182840
CREATED:20180429T201027Z
LAST-MODIFIED:20180429T201027Z
UID:18331-1714456800-1714460400@www.stmichaels-vt.org
SUMMARY:Silent Meditation
DESCRIPTION:6:00-7:00 am\, Weekday mornings – The Chapel is open every weekday morning from 6-7 am for those who would like to sit together in silent prayer or meditation.   Stay for 10 minutes or for the whole hour.   The Chapel is offered as a sacred space in which people can gather “in the beauty of holiness” to begin their days\, whatever their faith tradition.
URL:https://www.stmichaels-vt.org/event/silent-meditation/2024-04-30/
END:VEVENT
BEGIN:VEVENT
DTSTART;TZID=America/New_York:20240429T060000
DTEND;TZID=America/New_York:20240429T070000
DTSTAMP:20260425T182840
CREATED:20180429T201027Z
LAST-MODIFIED:20180429T201027Z
UID:18330-1714370400-1714374000@www.stmichaels-vt.org
SUMMARY:Silent Meditation
DESCRIPTION:6:00-7:00 am\, Weekday mornings – The Chapel is open every weekday morning from 6-7 am for those who would like to sit together in silent prayer or meditation.   Stay for 10 minutes or for the whole hour.   The Chapel is offered as a sacred space in which people can gather “in the beauty of holiness” to begin their days\, whatever their faith tradition.
URL:https://www.stmichaels-vt.org/event/silent-meditation/2024-04-29/
END:VEVENT
BEGIN:VEVENT
DTSTART;TZID=America/New_York:20240427T080000
DTEND;TZID=America/New_York:20240427T090000
DTSTAMP:20260425T182840
CREATED:20180429T221835Z
LAST-MODIFIED:20180429T221835Z
UID:18328-1714204800-1714208400@www.stmichaels-vt.org
SUMMARY:Centering Prayer
DESCRIPTION:8:00 am Saturdays\, Centering Prayer  – On Saturday mornings we practice  two 20-minute sessions of Centering Prayer (silent meditation) divided by 5 minutes of walking mediation. You may stay for one or both sessions.  Every third week\, the we sit for one session\, followed by 30 minutes of reading and discussion. Training in Centering Prayer is offered for newcomers. Participants may stay for just the prayer practice or both the prayer practice and the discussion
URL:https://www.stmichaels-vt.org/event/centering-prayer-2/2024-04-27/
END:VEVENT
BEGIN:VEVENT
DTSTART;TZID=America/New_York:20240426T060000
DTEND;TZID=America/New_York:20240426T070000
DTSTAMP:20260425T182840
CREATED:20180429T201027Z
LAST-MODIFIED:20180429T201027Z
UID:18324-1714111200-1714114800@www.stmichaels-vt.org
SUMMARY:Silent Meditation
DESCRIPTION:6:00-7:00 am\, Weekday mornings – The Chapel is open every weekday morning from 6-7 am for those who would like to sit together in silent prayer or meditation.   Stay for 10 minutes or for the whole hour.   The Chapel is offered as a sacred space in which people can gather “in the beauty of holiness” to begin their days\, whatever their faith tradition.
URL:https://www.stmichaels-vt.org/event/silent-meditation/2024-04-26/
END:VEVENT
BEGIN:VEVENT
DTSTART;TZID=America/New_York:20240425T173000
DTEND;TZID=America/New_York:20240425T180000
DTSTAMP:20260425T182840
CREATED:20180429T200819Z
LAST-MODIFIED:20180429T200819Z
UID:18312-1714066200-1714068000@www.stmichaels-vt.org
SUMMARY:5:30 pm Contemplative Service
DESCRIPTION:A 30-minute service of chanting\, silence\, and quiet reflection on scripture.   This service is held in the Chapel of Mary Magdalene (through office entrance on Bradley Avenue).
URL:https://www.stmichaels-vt.org/event/530-pm-contemplative-service/2024-04-25/
END:VEVENT
BEGIN:VEVENT
DTSTART;TZID=America/New_York:20240425T060000
DTEND;TZID=America/New_York:20240425T070000
DTSTAMP:20260425T182840
CREATED:20180429T201027Z
LAST-MODIFIED:20180429T201027Z
UID:18313-1714024800-1714028400@www.stmichaels-vt.org
SUMMARY:Silent Meditation
DESCRIPTION:6:00-7:00 am\, Weekday mornings – The Chapel is open every weekday morning from 6-7 am for those who would like to sit together in silent prayer or meditation.   Stay for 10 minutes or for the whole hour.   The Chapel is offered as a sacred space in which people can gather “in the beauty of holiness” to begin their days\, whatever their faith tradition.
URL:https://www.stmichaels-vt.org/event/silent-meditation/2024-04-25/
END:VEVENT
BEGIN:VEVENT
DTSTART;TZID=America/New_York:20210716T090000
DTEND;TZID=America/New_York:20210716T140000
DTSTAMP:20260425T182840
CREATED:20210706T191228Z
LAST-MODIFIED:20210706T200217Z
UID:16983-1626426000-1626444000@www.stmichaels-vt.org
SUMMARY:Clothing & Linens for all Season: A Benefit for Loaves and Fishes
DESCRIPTION:Take what you want\, give what you can. Outside under the tents.
URL:https://www.stmichaels-vt.org/event/clothing-linens-for-all-season-a-benefit-for-loaves-and-fishes/
LOCATION:St. Michael’s Episcpal Church\, 16 Bradley Avenue\, Brattleboro\, Vermont\, 05301
CATEGORIES:Special Event
END:VEVENT
BEGIN:VEVENT
DTSTART;TZID=America/New_York:20200630T080000
DTEND;TZID=America/New_York:20200630T170000
DTSTAMP:20260425T182840
CREATED:20200608T143050Z
LAST-MODIFIED:20200608T143050Z
UID:14255-1593504000-1593536400@www.stmichaels-vt.org
SUMMARY:test event
DESCRIPTION:blah blah
URL:https://www.stmichaels-vt.org/event/test-event/
LOCATION:Brattleboro Common
CATEGORIES:Special Event
END:VEVENT
BEGIN:VEVENT
DTSTART;TZID=America/New_York:20200422T090000
DTEND;TZID=America/New_York:20200422T100000
DTSTAMP:20260425T182840
CREATED:20200419T172051Z
LAST-MODIFIED:20200419T172051Z
UID:13997-1587546000-1587549600@www.stmichaels-vt.org
SUMMARY:Earth Day Interfaith Prayer Service
DESCRIPTION:Zoom Link: https://zoom.us/j/4300550548\nPassword: 585655
URL:https://www.stmichaels-vt.org/event/earth-day-interfaith-prayer-service/
CATEGORIES:Special Event
END:VEVENT
BEGIN:VEVENT
DTSTART;TZID=America/New_York:20200226T073000
DTEND;TZID=America/New_York:20200226T183000
DTSTAMP:20260425T182840
CREATED:20190207T102347Z
LAST-MODIFIED:20200205T185751Z
UID:11175-1582702200-1582741800@www.stmichaels-vt.org
SUMMARY:Ash Wednesday Services\, 7:30\, 12pm & 5:30pm
DESCRIPTION:Ash Wednesday services are held at 7:30 am\, 12pm and 5:30 pm at St. Michael’s Episcopal Church.  Ash Wednesday is the first day of the Season of Lent. It occurs 46 days (40 fasting days\, if the six Sundays\, which are not days of fast\, are excluded) before Easter.  Jesus spent 40 days fasting in the desert.  Lent originated as a mirroring of this\, a special season of devotion as preparation for Easter. \nAsh Wednesday derives its name from the practice of blessing ashes made from palm branches blessed on the previous year’s Palm Sunday\, and placing them on the heads of participants to the accompaniment of the words “Repent\, and believe in the Gospel” or “Remember that you are dust\, and to dust you shall return” \nAll are welcome.
URL:https://www.stmichaels-vt.org/event/ash-wednesday-service-6/
CATEGORIES:Special Event
END:VEVENT
BEGIN:VEVENT
DTSTART;TZID=America/New_York:20200225T170000
DTEND;TZID=America/New_York:20200225T190000
DTSTAMP:20260425T182840
CREATED:20190212T192446Z
LAST-MODIFIED:20200205T185557Z
UID:11201-1582650000-1582657200@www.stmichaels-vt.org
SUMMARY:Shrove Tuesday Pancake Dinner
DESCRIPTION:SHROVE TUESDAY ANNUAL PANCAKE SUPPER\nSt. Michael’s Outreach Team members will once again put on the annual pancake supper on Tuesday March 5\, serving from 5:00 until 7:00 pm. Costumes and bright colors are welcome!
URL:https://www.stmichaels-vt.org/event/shrove-tuesday-pancake-dinner-2/
CATEGORIES:Special Event
END:VEVENT
END:VCALENDAR